BEGIN:VCALENDAR
VERSION:2.0
METHOD:PUBLISH
PRODID:-//Accessible Web Design//My Calendar//http://www.joedolson.com//v//EN';
BEGIN:VEVENT
UID:1644-153
LOCATION:Gelände an der Havelspitze Havelspitze 5  Berlin  13587
SUMMARY:Boule Nachmittag
DTSTAMP:20240904T150000
ORGANIZER;CN=admin:MAILTO:dk@morethanshelters.org
DTSTART:20240904T150000
DTEND:20240904T170000
CATEGORIES:BENN Hakenfelde Veranstaltung
URL;VALUE=URI:https://benn-hakenfelde.de/mc-events/boule-nachmittag-7/?mc_id=1644
DESCRIPTION:
END:VEVENT
END:VCALENDAR