BEGIN:VCALENDAR
VERSION:2.0
METHOD:PUBLISH
PRODID:-//Accessible Web Design//My Calendar//http://www.joedolson.com//v//EN';
BEGIN:VEVENT
UID:1640-149
LOCATION:Gelände an der Havelspitze Havelspitze 5  Berlin  13587
SUMMARY:Boule Nachmittag
DTSTAMP:20240626T150000
ORGANIZER;CN=admin:MAILTO:dk@morethanshelters.org
DTSTART:20240626T150000
DTEND:20240626T170000
CATEGORIES:BENN Hakenfelde Veranstaltung
URL;VALUE=URI:https://benn-hakenfelde.de/mc-events/boule-nachmittag-3/?mc_id=1640
DESCRIPTION:
END:VEVENT
END:VCALENDAR