BEGIN:VCALENDAR
VERSION:2.0
METHOD:PUBLISH
PRODID:-//Accessible Web Design//My Calendar//http://www.joedolson.com//v//EN';
BEGIN:VEVENT
UID:1618-144
LOCATION:Vor-Ort-Büro BENN Hakenfelde
SUMMARY:MitMachKüche
DTSTAMP:20240605T150000
ORGANIZER;CN=admin:MAILTO:dk@morethanshelters.org
DTSTART:20240605T150000
DTEND:20240605T180000
CATEGORIES:BENN Hakenfelde Veranstaltung
URL;VALUE=URI:https://benn-hakenfelde.de/mc-events/mitmachkueche-2/?mc_id=1618
DESCRIPTION:
END:VEVENT
END:VCALENDAR