BEGIN:VCALENDAR
VERSION:2.0
METHOD:PUBLISH
PRODID:-//Accessible Web Design//My Calendar//http://www.joedolson.com//v//EN';
BEGIN:VEVENT
UID:1612-138
LOCATION:Cautiusstr./Schönwalder Allee
SUMMARY:Kiezspaziergang
DTSTAMP:20240517T183000
ORGANIZER;CN=admin:MAILTO:dk@morethanshelters.org
DTSTART:20240517T183000
DTEND:20240517T200000
CATEGORIES:Stadtteilladen - Event
URL;VALUE=URI:https://benn-hakenfelde.de/mc-events/kiezspaziergang/?mc_id=1612
DESCRIPTION:
END:VEVENT
END:VCALENDAR