BEGIN:VCALENDAR
VERSION:2.0
METHOD:PUBLISH
PRODID:-//Accessible Web Design//My Calendar//http://www.joedolson.com//v//EN';
BEGIN:VEVENT
UID:1608-134
LOCATION:Begleitprogramm Streitstraße 24
SUMMARY:Hakenfelder Frühlings-Flohmarkt
DTSTAMP:20240427T120000
ORGANIZER;CN=admin:MAILTO:dk@morethanshelters.org
DTSTART:20240427T120000
DTEND:20240427T160000
CATEGORIES:Begleitprogramm - Event
URL;VALUE=URI:https://benn-hakenfelde.de/mc-events/hakenfelder-fruehlings-flohmarkt/?mc_id=1608
DESCRIPTION:
END:VEVENT
END:VCALENDAR