BEGIN:VCALENDAR
VERSION:2.0
METHOD:PUBLISH
PRODID:-//Accessible Web Design//My Calendar//http://www.joedolson.com//v//EN';
BEGIN:VEVENT
UID:1606-133
LOCATION:Vor-Ort-Büro BENN Hakenfelde
SUMMARY:MitMachKüche
DTSTAMP:20240417T160000
ORGANIZER;CN=admin:MAILTO:dk@morethanshelters.org
DTSTART:20240417T160000
DTEND:20240417T190000
CATEGORIES:BENN Hakenfelde Veranstaltung
URL;VALUE=URI:https://benn-hakenfelde.de/mc-events/mitmachkueche/?mc_id=1606
DESCRIPTION:
END:VEVENT
END:VCALENDAR