BEGIN:VCALENDAR
VERSION:2.0
METHOD:PUBLISH
PRODID:-//Accessible Web Design//My Calendar//http://www.joedolson.com//v//EN';
BEGIN:VEVENT
UID:1605-132
LOCATION:Vor-Ort-Büro BENN Hakenfelde
SUMMARY:Nachbarschaftsforum: Theaterworkshop für Kinder und Jugendliche
DTSTAMP:20240413T110000
ORGANIZER;CN=admin:MAILTO:dk@morethanshelters.org
DTSTART:20240413T110000
DTEND:20240413T140000
CATEGORIES:BENN Hakenfelde Veranstaltung
URL;VALUE=URI:https://benn-hakenfelde.de/mc-events/nachbarschaftsforum-theaterworkshop-fuer-kinder-und-jugendliche/?mc_id=1605
DESCRIPTION:
END:VEVENT
END:VCALENDAR