BEGIN:VCALENDAR
VERSION:2.0
METHOD:PUBLISH
PRODID:-//Accessible Web Design//My Calendar//http://www.joedolson.com//v//EN';
BEGIN:VEVENT
UID:1604-131
LOCATION:Gemeinschaftsunterkunft Rauchstraße 22  Berlin  13587
SUMMARY:Zuckerfest
DTSTAMP:20240413T140000
ORGANIZER;CN=admin:MAILTO:dk@morethanshelters.org
DTSTART:20240413T140000
DTEND:20240413T180000
CATEGORIES:BENN Hakenfelde Veranstaltung
URL;VALUE=URI:https://benn-hakenfelde.de/mc-events/zuckerfest/?mc_id=1604
DESCRIPTION:
END:VEVENT
END:VCALENDAR