BEGIN:VCALENDAR
VERSION:2.0
METHOD:PUBLISH
PRODID:-//Accessible Web Design//My Calendar//http://www.joedolson.com//v//EN';
BEGIN:VEVENT
UID:1549-120
LOCATION:Stadtteilladen Streitstraße 60  Berlin  13587
SUMMARY:Lesebühne: Susanne M. Riedel
DTSTAMP:20240306T183000
ORGANIZER;CN=admin:MAILTO:dk@morethanshelters.org
DTSTART:20240306T183000
DTEND:20240306T200000
CATEGORIES:Stadtteilladen - Event
URL;VALUE=URI:https://benn-hakenfelde.de/mc-events/lesebuehne-susanne-m-riedel/?mc_id=1549
DESCRIPTION:
END:VEVENT
END:VCALENDAR