BEGIN:VCALENDAR
VERSION:2.0
METHOD:PUBLISH
PRODID:-//Accessible Web Design//My Calendar//http://www.joedolson.com//v//EN';
BEGIN:VEVENT
UID:1526-116
LOCATION:Gotisches Haus Breite Straße 32  Berlin  13597
SUMMARY:Kiezgedächtnis Hakenfelde (kostenlose Ausstellung)
DTSTAMP:20240531T100000
ORGANIZER;CN=admin:MAILTO:dk@morethanshelters.org
DTSTART:20240531T100000
DTEND:20240531T180000
CATEGORIES:Stadtteilladen
URL;VALUE=URI:https://benn-hakenfelde.de/mc-events/kiezgedaechtnis-hakenfelde-kostenlose-ausstellung/?mc_id=1526
DESCRIPTION:Öffnungszeiten:Montag-Samstag 10-18 UhrSonntag 12-18 UhrIm April ist die Montags geschlossen.
END:VEVENT
END:VCALENDAR