BEGIN:VCALENDAR
VERSION:2.0
METHOD:PUBLISH
PRODID:-//Accessible Web Design//My Calendar//http://www.joedolson.com//v//EN';
BEGIN:VEVENT
UID:1426-115
LOCATION:Stadtteilladen Streitstraße 60  Berlin  13587
SUMMARY:Großer Spieltag
DTSTAMP:20240204T140000
ORGANIZER;CN=admin:MAILTO:dk@morethanshelters.org
DTSTART:20240204T140000
DTEND:20240204T180000
CATEGORIES:Stadtteilladen - Event
URL;VALUE=URI:https://benn-hakenfelde.de/mc-events/grosser-spieltag-2/?mc_id=1426
DESCRIPTION:
END:VEVENT
END:VCALENDAR