BEGIN:VCALENDAR
VERSION:2.0
METHOD:PUBLISH
PRODID:-//Accessible Web Design//My Calendar//http://www.joedolson.com//v//EN';
BEGIN:VEVENT
UID:1425-114
LOCATION:heimaten bei berlinovo Rauchstraße 29  Berlin  13587
SUMMARY:Sprachcafé
DTSTAMP:20241220T140000
ORGANIZER;CN=admin:MAILTO:dk@morethanshelters.org
DTSTART:20241220T140000
DTEND:20241220T150000
CATEGORIES:heimaten - GIZ &amp; berlinovo
URL;VALUE=URI:https://benn-hakenfelde.de/mc-events/sprachcafe-9/?mc_id=1425
DESCRIPTION:
END:VEVENT
END:VCALENDAR