BEGIN:VCALENDAR
VERSION:2.0
METHOD:PUBLISH
PRODID:-//Accessible Web Design//My Calendar//http://www.joedolson.com//v//EN';
BEGIN:VEVENT
UID:1272-110
LOCATION:heimaten bei berlinovo Rauchstraße 29  Berlin  13587
SUMMARY:Hausaufgabenhilfe (Klasse 1-6)
DTSTAMP:20241217T160000
ORGANIZER;CN=admin:MAILTO:dk@morethanshelters.org
DTSTART:20241217T160000
DTEND:20241217T180000
CATEGORIES:heimaten - GIZ &amp; berlinovo
URL;VALUE=URI:https://benn-hakenfelde.de/mc-events/hausaufgabenhilfe-klasse-1-6/?mc_id=1272
DESCRIPTION:
END:VEVENT
END:VCALENDAR