BEGIN:VCALENDAR
VERSION:2.0
METHOD:PUBLISH
PRODID:-//Accessible Web Design//My Calendar//http://www.joedolson.com//v//EN';
BEGIN:VEVENT
UID:1120-107
LOCATION:heimaten bei berlinovo Rauchstraße 29  Berlin  13587
SUMMARY:Deutschkurs (Anfänger:innen)
DTSTAMP:20241217T173000
ORGANIZER;CN=admin:MAILTO:dk@morethanshelters.org
DTSTART:20241217T173000
DTEND:20241217T181500
CATEGORIES:heimaten - GIZ &amp; berlinovo
URL;VALUE=URI:https://benn-hakenfelde.de/mc-events/deutschkurs-anfaengerinnen/?mc_id=1120
DESCRIPTION:
END:VEVENT
END:VCALENDAR