BEGIN:VCALENDAR
VERSION:2.0
METHOD:PUBLISH
PRODID:-//Accessible Web Design//My Calendar//http://www.joedolson.com//v//EN';
BEGIN:VEVENT
UID:803-101
LOCATION:Stadtteilladen Streitstraße 60  Berlin  13587
SUMMARY:Gang in die Natur
DTSTAMP:20240105T130000
ORGANIZER;CN=admin:MAILTO:dk@morethanshelters.org
DTSTART:20240105T130000
DTEND:20240105T153000
CATEGORIES:Stadtteilladen
URL;VALUE=URI:https://benn-hakenfelde.de/mc-events/gang-in-die-natur-2/?mc_id=803
DESCRIPTION:
END:VEVENT
END:VCALENDAR