BEGIN:VCALENDAR
VERSION:2.0
METHOD:PUBLISH
PRODID:-//Accessible Web Design//My Calendar//http://www.joedolson.com//v//EN';
BEGIN:VEVENT
UID:747-95
LOCATION:Stadtteilladen Streitstraße 60  Berlin  13587
SUMMARY:Jahresendwanderung
DTSTAMP:20231216T123000
ORGANIZER;CN=admin:MAILTO:dk@morethanshelters.org
DTSTART:20231216T123000
DTEND:20231216T133000
CATEGORIES:Stadtteilladen - Event
URL;VALUE=URI:https://benn-hakenfelde.de/mc-events/jahresendwanderung/?mc_id=747
DESCRIPTION:
END:VEVENT
END:VCALENDAR