BEGIN:VCALENDAR
VERSION:2.0
METHOD:PUBLISH
PRODID:-//Accessible Web Design//My Calendar//http://www.joedolson.com//v//EN';
BEGIN:VEVENT
UID:744-92
LOCATION:Stadtteilladen Streitstraße 60  Berlin  13587
SUMMARY:Open Stage
DTSTAMP:20231130T183000
ORGANIZER;CN=admin:MAILTO:dk@morethanshelters.org
DTSTART:20231130T183000
DTEND:20231130T200000
CATEGORIES:Stadtteilladen - Event
URL;VALUE=URI:https://benn-hakenfelde.de/mc-events/open-stage/?mc_id=744
DESCRIPTION:
END:VEVENT
END:VCALENDAR