BEGIN:VCALENDAR
VERSION:2.0
METHOD:PUBLISH
PRODID:-//Accessible Web Design//My Calendar//http://www.joedolson.com//v//EN';
BEGIN:VEVENT
UID:687-72
LOCATION:Gemeinschaftsunterkunft Rauchstraße 22  Berlin  13587
SUMMARY:Workshop: Wasser, Boden, Luft
DTSTAMP:20230822T160000
ORGANIZER;CN=admin:MAILTO:dk@morethanshelters.org
DTSTART:20230822T160000
DTEND:20230822T180000
CATEGORIES:BENN Hakenfelde Veranstaltung
URL;VALUE=URI:https://benn-hakenfelde.de/mc-events/workshop-wasser-boden-luft/?mc_id=687
DESCRIPTION:
END:VEVENT
END:VCALENDAR