BEGIN:VCALENDAR
VERSION:2.0
METHOD:PUBLISH
PRODID:-//Accessible Web Design//My Calendar//http://www.joedolson.com//v//EN';
BEGIN:VEVENT
UID:681-66
LOCATION:Rathaus Spandau  Carl-Schulz-Straße 2-6  Berlin  13597
SUMMARY:Demokratiefestival
DTSTAMP:20230916T130000
ORGANIZER;CN=admin:MAILTO:dk@morethanshelters.org
DTSTART:20230916T130000
DTEND:20230916T180000
CATEGORIES:Partnerschaft für Demokratie Spandau
URL;VALUE=URI:https://benn-hakenfelde.de/mc-events/demokratiefestival/?mc_id=681
DESCRIPTION: 
END:VEVENT
END:VCALENDAR