BEGIN:VCALENDAR
VERSION:2.0
METHOD:PUBLISH
PRODID:-//Accessible Web Design//My Calendar//http://www.joedolson.com//v//EN';
BEGIN:VEVENT
UID:680-65
LOCATION:Rathaus Spandau  Carl-Schulz-Straße 2-6  Berlin  13597
SUMMARY:Demokratiefestival
DTSTAMP:20230915T083000
ORGANIZER;CN=admin:MAILTO:dk@morethanshelters.org
DTSTART:20230915T083000
DTEND:20230915T163000
CATEGORIES:Partnerschaft für Demokratie Spandau
URL;VALUE=URI:https://benn-hakenfelde.de/mc-events/demokratiefestival-2/?mc_id=680
DESCRIPTION:
END:VEVENT
END:VCALENDAR