BEGIN:VCALENDAR
VERSION:2.0
METHOD:PUBLISH
PRODID:-//Accessible Web Design//My Calendar//http://www.joedolson.com//v//EN';
BEGIN:VEVENT
UID:401-26
LOCATION:heimaten bei berlinovo Rauchstraße 29  Berlin  13587
SUMMARY:Yoga
DTSTAMP:20230524T190000
ORGANIZER;CN=admin:MAILTO:dk@morethanshelters.org
DTSTART:20230524T190000
DTEND:20230524T200000
CATEGORIES:heimaten - GIZ &amp; berlinovo
URL;VALUE=URI:https://benn-hakenfelde.de/mc-events/yoga/?mc_id=401
DESCRIPTION:heimaten 5 Euro pro Session Ohne Anmeldung vorbeikommen! Entspannung, Fitness, Stärkung der Muskeln, aufrechte Haltung Positives Körpergefühl (zurück-)erlangen angenehme Atmosphäre genießen Nachbar*innen kennenlernen Ansprechperson: Jennifer Falck
END:VEVENT
END:VCALENDAR