BEGIN:VCALENDAR
VERSION:2.0
METHOD:PUBLISH
PRODID:-//Accessible Web Design//My Calendar//http://www.joedolson.com//v//EN';
BEGIN:VEVENT
UID:22-5
LOCATION:Gemeinschaftsunterkunft Rauchstraße 22  Berlin  13587
SUMMARY:Ehrenamtsrunde
DTSTAMP:20230523T160000
ORGANIZER;CN=admin:MAILTO:dk@morethanshelters.org
DTSTART:20230523T160000
DTEND:20230523T173000
CATEGORIES:BENN Hakenfelde Veranstaltung
URL;VALUE=URI:https://benn-hakenfelde.de/mc-events/ehrenamtsrunde/?mc_id=22
DESCRIPTION:Kommt vorbei zu unserer Ehrenamtsrunde "Gemeinsam Gärtnern"! Wir suchen noch Helfer:innen und Gartenliebhaber:innen, die uns unterstützen beim Garten der Gemeinschaftsunterkunft! 16:00-17:30 Uhr &nbsp;
END:VEVENT
END:VCALENDAR