BEGIN:VCALENDAR
VERSION:2.0
METHOD:PUBLISH
PRODID:-//Accessible Web Design//My Calendar//http://www.joedolson.com//v//EN';
BEGIN:VEVENT
UID:2151-237
LOCATION:Stadtteilladen Streitstraße 60  Berlin  13587
SUMMARY:Makramee-Workshop mit Pflanzen-Tausch aus dem Frühlingsprogramm Hakenfelde 2026
DTSTAMP:20260416T170000
ORGANIZER;CN=admin:MAILTO:dk@morethanshelters.org
DTSTART:20260416T170000
DTEND:20260416T190000
CATEGORIES:Stadtteilladen, BENN Hakenfelde Veranstaltung
URL;VALUE=URI:https://benn-hakenfelde.de/mc-events/makramee-workshop-mit-pflanzen-tausch-aus-dem-fruehlingsprogramm-hakenfelde-2026/?mc_id=2151
DESCRIPTION:Liebe Nachbarinnen und Nachbarn,wir laden euch herzlich zum Makramee-Workshop mit Pflanzen-Tausch ein – als Teil des Frühlingsprogramms Hakenfelde 2026, das BENN Hakenfelde gemeinsam mit der Stadtteilkoordination Hakenfelde und dem Gemeinwesenverein Haselhorst e. V. entwickelt.In diesem Workshop könnt ihr die Grundlagen der Makramee-Technik kennenlernen und eigene kleine Projekte gestalten. Zusätzlich findet ein Pflanzen-Tausch statt: Bringt gern eure Zimmerpflanzen oder Ableger mit und tauscht sie mit anderen. Auch wenn ihr nichts mitbringen könnt, seid ihr herzlich willkommen – vielleicht findet ihr trotzdem eine neue Pflanze für euer Zuhause!Dabei gibt es viel Raum, neue Nachbar:innen kennenzulernen und bekannte Gesichter wiederzutreffen.Die Teilnahme ist kostenlos. Kommt einfach vorbei!Donnerstag, 16. April 202617:00–19:00 UhrWo?Stadtteilladen Hakenfelde(Streitstraße 60, 13587 Berlin)Kommt vorbei und verbringt eine kreative und grüne Zeit mit uns!Wir freuen uns auf euch.Euer BENN Team
END:VEVENT
END:VCALENDAR