BEGIN:VCALENDAR
VERSION:2.0
METHOD:PUBLISH
PRODID:-//Accessible Web Design//My Calendar//http://www.joedolson.com//v//EN';
BEGIN:VEVENT
UID:2144-236
LOCATION:Gemeinschaftsunterkunft Askanierring Askanierring 70  Berlin  13585
SUMMARY:Gemeinsame Gartenarbeit
DTSTAMP:20260514T150000
ORGANIZER;CN=admin:MAILTO:dk@morethanshelters.org
DTSTART:20260514T150000
DTEND:20260514T180000
CATEGORIES:BENN Hakenfelde Veranstaltung
URL;VALUE=URI:https://benn-hakenfelde.de/mc-events/gemeinsame-gartenarbeit/?mc_id=2144
DESCRIPTION:Liebe Nachbarinnen und Nachbarn,wir laden euch herzlich zur gemeinsamen Gartenarbeit ein!In unseren Workshops lernt ihr alles rund um die Gartenarbeit – und baut gemeinsam mit uns Schritt für Schritt einen Garten auf. Dabei gibt es viel Raum, sich auszutauschen, neue Menschen kennenzulernen und gemeinsam aktiv zu sein. Alle sind willkommen!Die Teilnahme ist kostenlos – kommt einfach vorbei!Donnerstags von 15:00 bis 18:00 UhrAb dem 16. April 2026Wo?Im Garten der Gemeinschaftsunterkunft Askanierring(Askanierring 70, 13585 Berlin)Kommt vorbei und macht mit – wir freuen uns auf euch!Euer BENN Team
END:VEVENT
END:VCALENDAR