BEGIN:VCALENDAR
VERSION:2.0
METHOD:PUBLISH
PRODID:-//Accessible Web Design//My Calendar//http://www.joedolson.com//v//EN';
BEGIN:VEVENT
UID:2139-235
LOCATION:Havelkaiser-Platz Hugo-Cassirer-Straße 24–26  Berlin  13587
SUMMARY:BSR-Kieztag
DTSTAMP:20260314T080000
ORGANIZER;CN=admin:MAILTO:dk@morethanshelters.org
DTSTART:20260314T080000
DTEND:20260314T130000
CATEGORIES:Stadtteilladen
URL;VALUE=URI:https://benn-hakenfelde.de/mc-events/bsr-kieztag-2/?mc_id=2139
DESCRIPTION:Der nächste BSR-Kieztag in Hakenfelde steht bevor!Samstag, 14.03.20268:00–13:00 Uhr📍 Havelkaiser-Platz (Hugo-Cassirer-Straße 26, 13587 Berlin)Beim Tausch- und Verschenkemarkt könnt ihr gut erhaltene Gegenstände abgeben.Natürlich könnt ihr auch einfach vorbeikommen, stöbern und vielleicht etwas Schönes entdecken – auch ohne selbst etwas mitzubringen.❌ Nicht angenommen werden: Bauabfälle, Gussbadewannen, Autoreifen, Batterien, Öle, Lacke, Farben, Lösungsmittel sowie andere Sonderabfälle.
END:VEVENT
END:VCALENDAR