BEGIN:VCALENDAR
VERSION:2.0
METHOD:PUBLISH
PRODID:-//Accessible Web Design//My Calendar//http://www.joedolson.com//v//EN';
BEGIN:VEVENT
UID:2081-231
LOCATION:Stadtteilladen Streitstraße 60  Berlin  13587
SUMMARY:Malgruppe
DTSTAMP:20260220T143000
ORGANIZER;CN=admin:MAILTO:dk@morethanshelters.org
DTSTART:20260220T143000
DTEND:20260220T173000
CATEGORIES:Stadtteilladen
URL;VALUE=URI:https://benn-hakenfelde.de/mc-events/malgruppe-6/?mc_id=2081
DESCRIPTION:
END:VEVENT
END:VCALENDAR