BEGIN:VCALENDAR
VERSION:2.0
METHOD:PUBLISH
PRODID:-//Accessible Web Design//My Calendar//http://www.joedolson.com//v//EN';
BEGIN:VEVENT
UID:1967-227
LOCATION:Stadtteilladen Streitstraße 60  Berlin  13587
SUMMARY:Spieletreff
DTSTAMP:20260408T170000
ORGANIZER;CN=admin:MAILTO:dk@morethanshelters.org
DTSTART:20260408T170000
DTEND:20260408T190000
CATEGORIES:Stadtteilladen
URL;VALUE=URI:https://benn-hakenfelde.de/mc-events/spieletreff-3/?mc_id=1967
DESCRIPTION:
END:VEVENT
END:VCALENDAR