BEGIN:VCALENDAR
VERSION:2.0
METHOD:PUBLISH
PRODID:-//Accessible Web Design//My Calendar//http://www.joedolson.com//v//EN';
BEGIN:VEVENT
UID:1888-221
LOCATION:Stadtteilladen Streitstraße 60  Berlin  13587
SUMMARY:Jin Shin Jyutsu
DTSTAMP:20260616T163000
ORGANIZER;CN=admin:MAILTO:dk@morethanshelters.org
DTSTART:20260616T163000
DTEND:20260616T173000
CATEGORIES:Stadtteilladen
URL;VALUE=URI:https://benn-hakenfelde.de/mc-events/jin-shin-jyutsu/?mc_id=1888
DESCRIPTION:
END:VEVENT
END:VCALENDAR