BEGIN:VCALENDAR
VERSION:2.0
METHOD:PUBLISH
PRODID:-//Accessible Web Design//My Calendar//http://www.joedolson.com//v//EN';
BEGIN:VEVENT
UID:1848-220
LOCATION:Stadtteilladen Streitstraße 60  Berlin  13587
SUMMARY:Gang in die Natur
DTSTAMP:20260306T130000
ORGANIZER;CN=admin:MAILTO:dk@morethanshelters.org
DTSTART:20260306T130000
DTEND:20260306T153000
CATEGORIES:Stadtteilladen
URL;VALUE=URI:https://benn-hakenfelde.de/mc-events/gang-in-die-natur-3/?mc_id=1848
DESCRIPTION:
END:VEVENT
END:VCALENDAR