BEGIN:VCALENDAR
VERSION:2.0
METHOD:PUBLISH
PRODID:-//Accessible Web Design//My Calendar//http://www.joedolson.com//v//EN';
BEGIN:VEVENT
UID:1836-219
LOCATION:Stadtteilladen Streitstraße 60  Berlin  13587
SUMMARY:English conversation - The Thursday Club
DTSTAMP:20260507T160000
ORGANIZER;CN=admin:MAILTO:dk@morethanshelters.org
DTSTART:20260507T160000
DTEND:20260507T170000
CATEGORIES:Stadtteilladen
URL;VALUE=URI:https://benn-hakenfelde.de/mc-events/english-conversation-the-thursday-club/?mc_id=1836
DESCRIPTION:
END:VEVENT
END:VCALENDAR