BEGIN:VCALENDAR
VERSION:2.0
METHOD:PUBLISH
PRODID:-//Accessible Web Design//My Calendar//http://www.joedolson.com//v//EN';
BEGIN:VEVENT
UID:1806-218
LOCATION:Stadtteilladen Streitstraße 60  Berlin  13587
SUMMARY:Allgemeine Sozialberatung
DTSTAMP:20260403T100000
ORGANIZER;CN=admin:MAILTO:dk@morethanshelters.org
DTSTART:20260403T100000
DTEND:20260403T133000
CATEGORIES:Stadtteilladen
URL;VALUE=URI:https://benn-hakenfelde.de/mc-events/allgemeine-sozialberatung/?mc_id=1806
DESCRIPTION:
END:VEVENT
END:VCALENDAR