BEGIN:VCALENDAR
VERSION:2.0
METHOD:PUBLISH
PRODID:-//Accessible Web Design//My Calendar//http://www.joedolson.com//v//EN';
BEGIN:VEVENT
UID:1801-218
LOCATION:Stadtteilladen Streitstraße 60  Berlin  13587
SUMMARY:Allgemeine Sozialberatung
DTSTAMP:20260227T100000
ORGANIZER;CN=admin:MAILTO:dk@morethanshelters.org
DTSTART:20260227T100000
DTEND:20260227T133000
CATEGORIES:Stadtteilladen
URL;VALUE=URI:https://benn-hakenfelde.de/mc-events/allgemeine-sozialberatung/?mc_id=1801
DESCRIPTION:
END:VEVENT
END:VCALENDAR