BEGIN:VCALENDAR
VERSION:2.0
METHOD:PUBLISH
PRODID:-//Accessible Web Design//My Calendar//http://www.joedolson.com//v//EN';
BEGIN:VEVENT
UID:1792-215
LOCATION:Die Spandauer Freiwilligenagentur Carl-Schurz-Straße 53  Berlin  13597
SUMMARY:Koch-Studio für Ehrenamtliche
DTSTAMP:20260210T170000
ORGANIZER;CN=admin:MAILTO:dk@morethanshelters.org
DTSTART:20260210T170000
DTEND:20260210T200000
CATEGORIES:Die Spandauer Freiwilligenagentur
URL;VALUE=URI:https://benn-hakenfelde.de/mc-events/koch-studio-fuer-ehrenamtliche/?mc_id=1792
DESCRIPTION:Liebe Freiwillige,die Spandauer Freiwilligenagentur möchte sich herzlich für eure großartige Unterstützung und euren unermüdlichen Einsatz bedanken. Ohne euch wären viele Projekte nicht möglich gewesen. Als kleines Dankeschön lädt die Spandauer Freiwilligenagentur zu einem gemütlichen Abendessen in ihren Räumen ein. Nabia wird Gerichte aus ihrer afghanischen Heimat zubereiten. Wenn ihr möchtet, könnt ihr dabei auch gerne ein wenig helfen.Dazu lädt die Spandauer Freiwilligenagentur euch herzlich ein. Bitte meldet euch schnell an, da die Anzahl der Teilnehmer begrenzt ist!Zur Anmeldung nutzt bitte das Kontaktformular unter diesem Link: https://die-spandauer.de/event/koch-studio-fuer-ehrenamtliche/Der Abend bietet eine schöne Gelegenheit zum Austausch, zum Entdecken neuer Rezepte und zum gemeinsamen Beisammensein.Die Spandauer Freiwilligenagentur freut sich auf einen schönen Abend mit euch!
END:VEVENT
END:VCALENDAR