BEGIN:VCALENDAR
VERSION:2.0
METHOD:PUBLISH
PRODID:-//Accessible Web Design//My Calendar//http://www.joedolson.com//v//EN';
BEGIN:VEVENT
UID:1791-214
LOCATION:Die Spandauer Freiwilligenagentur Carl-Schurz-Straße 53  Berlin  13597
SUMMARY:Info-Workshop von der Spandauer Freiwilligenagentur mit dem Raum für Beteiligung: Was kann Beteiligung?
DTSTAMP:20260127T173000
ORGANIZER;CN=admin:MAILTO:dk@morethanshelters.org
DTSTART:20260127T173000
DTEND:20260127T193000
CATEGORIES:Die Spandauer Freiwilligenagentur
URL;VALUE=URI:https://benn-hakenfelde.de/mc-events/info-workshop-von-der-spandauer-freiwilligenagentur-mit-dem-raum-fuer-beteiligung-was-kann-beteiligung/?mc_id=1791
DESCRIPTION:Beteiligen Sie sich jetzt in Ihrem Kiez!Was ist über das klassische Ehrenamt hinaus möglich?Und was ist der Kiezradar? Bringen Sie Ihr Smartphone mit und probieren Sie esdirekt aus!
END:VEVENT
END:VCALENDAR