BEGIN:VCALENDAR
VERSION:2.0
METHOD:PUBLISH
PRODID:-//Accessible Web Design//My Calendar//http://www.joedolson.com//v//EN';
BEGIN:VEVENT
UID:1724-180
LOCATION:Streitstraße/Hohenzollernring
SUMMARY:Kiezspaziergang
DTSTAMP:20240925T173000
ORGANIZER;CN=admin:MAILTO:dk@morethanshelters.org
DTSTART:20240925T173000
DTEND:20240925T190000
CATEGORIES:Stadtteilladen - Event
URL;VALUE=URI:https://benn-hakenfelde.de/mc-events/kiezspaziergang-3/?mc_id=1724
DESCRIPTION:
END:VEVENT
END:VCALENDAR