BEGIN:VCALENDAR
VERSION:2.0
METHOD:PUBLISH
PRODID:-//Accessible Web Design//My Calendar//http://www.joedolson.com//v//EN';
BEGIN:VEVENT
UID:1690-168
LOCATION:heimaten bei berlinovo Rauchstraße 29  Berlin  13587
SUMMARY:Tauschmarkt zum Schulstart
DTSTAMP:20240823T130000
ORGANIZER;CN=admin:MAILTO:dk@morethanshelters.org
DTSTART:20240823T130000
DTEND:20240823T160000
CATEGORIES:heimaten - Event
URL;VALUE=URI:https://benn-hakenfelde.de/mc-events/tauschmarkt-zum-schulstart/?mc_id=1690
DESCRIPTION:
END:VEVENT
END:VCALENDAR