BEGIN:VCALENDAR
VERSION:2.0
METHOD:PUBLISH
PRODID:-//Accessible Web Design//My Calendar//http://www.joedolson.com//v//EN';
BEGIN:VEVENT
UID:1669-162
LOCATION:Frieda Arnheim Promenade 7  Berlin  13585
SUMMARY:Kiezrundgang: Eiswerder
DTSTAMP:20240827T183000
ORGANIZER;CN=admin:MAILTO:dk@morethanshelters.org
DTSTART:20240827T183000
DTEND:20240827T200000
CATEGORIES:Stadtteilladen - Event
URL;VALUE=URI:https://benn-hakenfelde.de/mc-events/kiezrundgang-eiswerder/?mc_id=1669
DESCRIPTION:
END:VEVENT
END:VCALENDAR