BEGIN:VCALENDAR
VERSION:2.0
METHOD:PUBLISH
PRODID:-//Accessible Web Design//My Calendar//http://www.joedolson.com//v//EN';
BEGIN:VEVENT
UID:1668-161
LOCATION:Wichernkirche Wichernstraße 14  Berlin  13587
SUMMARY:Kiezrundgang
DTSTAMP:20240830T183000
ORGANIZER;CN=admin:MAILTO:dk@morethanshelters.org
DTSTART:20240830T183000
DTEND:20240830T200000
CATEGORIES:Stadtteilladen - Event
URL;VALUE=URI:https://benn-hakenfelde.de/mc-events/kiezrundgang-2/?mc_id=1668
DESCRIPTION:
END:VEVENT
END:VCALENDAR