BEGIN:VCALENDAR
VERSION:2.0
METHOD:PUBLISH
PRODID:-//Accessible Web Design//My Calendar//http://www.joedolson.com//v//EN';
BEGIN:VEVENT
UID:1637-146
LOCATION:Heimathavel Schwielowseestraße 20  Berlin  13599
SUMMARY:Pflanzentausch
DTSTAMP:20240604T160000
ORGANIZER;CN=admin:MAILTO:dk@morethanshelters.org
DTSTART:20240604T160000
DTEND:20240604T180000
CATEGORIES:Stadtteilladen - Event
URL;VALUE=URI:https://benn-hakenfelde.de/mc-events/pflanzentausch/?mc_id=1637
DESCRIPTION:
END:VEVENT
END:VCALENDAR