BEGIN:VCALENDAR
VERSION:2.0
METHOD:PUBLISH
PRODID:-//Accessible Web Design//My Calendar//http://www.joedolson.com//v//EN';
BEGIN:VEVENT
UID:1613-139
LOCATION:Experimentierort bei Wilhelm Weißenburger Straße 1-9  Berlin  13595
SUMMARY:Tanz aus dem Herzen
DTSTAMP:20240608T170000
ORGANIZER;CN=admin:MAILTO:dk@morethanshelters.org
DTSTART:20240608T170000
DTEND:20240608T190000
CATEGORIES:Berlin Mondiale
URL;VALUE=URI:https://benn-hakenfelde.de/mc-events/tanz-aus-dem-herzen/?mc_id=1613
DESCRIPTION:
END:VEVENT
END:VCALENDAR