BEGIN:VCALENDAR
VERSION:2.0
METHOD:PUBLISH
PRODID:-//Accessible Web Design//My Calendar//http://www.joedolson.com//v//EN';
BEGIN:VEVENT
UID:1172-109
LOCATION:heimaten bei berlinovo Rauchstraße 29  Berlin  13587
SUMMARY:Yoga (5€)
DTSTAMP:20240110T190000
ORGANIZER;CN=admin:MAILTO:dk@morethanshelters.org
DTSTART:20240110T190000
DTEND:20240110T200000
CATEGORIES:heimaten - GIZ &amp; berlinovo
URL;VALUE=URI:https://benn-hakenfelde.de/mc-events/yoga-5e/?mc_id=1172
DESCRIPTION:
END:VEVENT
END:VCALENDAR