BEGIN:VCALENDAR
VERSION:2.0
METHOD:PUBLISH
PRODID:-//Accessible Web Design//My Calendar//http://www.joedolson.com//v//EN';
BEGIN:VEVENT
UID:1146-108
LOCATION:heimaten bei berlinovo Rauchstraße 29  Berlin  13587
SUMMARY:Deutschkurs (Fortgeschritten)
DTSTAMP:20240625T181500
ORGANIZER;CN=admin:MAILTO:dk@morethanshelters.org
DTSTART:20240625T181500
DTEND:20240625T190000
CATEGORIES:Stadtteilladen
URL;VALUE=URI:https://benn-hakenfelde.de/mc-events/deutschkurs-fortgeschritten/?mc_id=1146
DESCRIPTION:
END:VEVENT
END:VCALENDAR