BEGIN:VCALENDAR
VERSION:2.0
METHOD:PUBLISH
PRODID:-//Accessible Web Design//My Calendar//http://www.joedolson.com//v//EN';
BEGIN:VEVENT
UID:1121-108
LOCATION:heimaten bei berlinovo Rauchstraße 29  Berlin  13587
SUMMARY:Deutschkurs (Fortgeschritten)
DTSTAMP:20240102T181500
ORGANIZER;CN=admin:MAILTO:dk@morethanshelters.org
DTSTART:20240102T181500
DTEND:20240102T190000
CATEGORIES:Stadtteilladen
URL;VALUE=URI:https://benn-hakenfelde.de/mc-events/deutschkurs-fortgeschritten/?mc_id=1121
DESCRIPTION:
END:VEVENT
END:VCALENDAR