BEGIN:VCALENDAR
VERSION:2.0
METHOD:PUBLISH
PRODID:-//Accessible Web Design//My Calendar//http://www.joedolson.com//v//EN';
BEGIN:VEVENT
UID:1070-107
LOCATION:heimaten bei berlinovo Rauchstraße 29  Berlin  13587
SUMMARY:Deutschkurs (Anfänger:innen)
DTSTAMP:20240102T173000
ORGANIZER;CN=admin:MAILTO:dk@morethanshelters.org
DTSTART:20240102T173000
DTEND:20240102T181500
CATEGORIES:heimaten - GIZ &amp; berlinovo
URL;VALUE=URI:https://benn-hakenfelde.de/mc-events/deutschkurs-anfaengerinnen/?mc_id=1070
DESCRIPTION:
END:VEVENT
END:VCALENDAR