BEGIN:VCALENDAR
VERSION:2.0
METHOD:PUBLISH
PRODID:-//Accessible Web Design//My Calendar//http://www.joedolson.com//v//EN';
BEGIN:VEVENT
UID:1035-106
LOCATION:Galerie David-Francke-Str. 1 Galerie David-Francke-Str. 1  Berlin   13587
SUMMARY:Nähkurs
DTSTAMP:20240423T140000
ORGANIZER;CN=admin:MAILTO:dk@morethanshelters.org
DTSTART:20240423T140000
DTEND:20240423T160000
CATEGORIES:heimaten - GIZ &amp; berlinovo
URL;VALUE=URI:https://benn-hakenfelde.de/mc-events/naehkurs-2/?mc_id=1035
DESCRIPTION:
END:VEVENT
END:VCALENDAR